BEGIN:VCALENDAR
VERSION:2.0
PRODID:-//https://www.daiquiridecksouthsiesta.cdmsrq.info///NONSGML kigkonsult.se iCalcreator 2.10.15//
METHOD:PUBLISH
BEGIN:VEVENT
UID:20260422T153000UTC-4995AcubpX@https://www.daiquiridecksouthsiesta.cdmsr
 q.info/
DTSTAMP:20260422T153000Z
DESCRIPTION: https://www.daiquiridecksouthsiesta.cdmsrq.info/component/rsev
 entspro/event/3836-5p-mario-kart-tournament?Itemid=101
DTSTART;VALUE=DATE:20260429
LOCATION:Daiquiri Deck South Siesta Key (1250 Stickney Point Rd\, Siesta Ke
 y\, FL 34242)
SUMMARY:5p Mario Kart Tournament
URL:https://www.daiquiridecksouthsiesta.cdmsrq.info/component/rseventspro/e
 vent/3836-5p-mario-kart-tournament?Itemid=101
END:VEVENT
END:VCALENDAR
