BEGIN:VCALENDAR
VERSION:2.0
PRODID:-//https://www.daiquiridecksouthsiesta.cdmsrq.info///NONSGML kigkonsult.se iCalcreator 2.10.15//
METHOD:PUBLISH
BEGIN:VEVENT
UID:20260422T151529UTC-8172885xuz@https://www.daiquiridecksouthsiesta.cdmsr
 q.info/
DTSTAMP:20260422T151529Z
DESCRIPTION: https://www.daiquiridecksouthsiesta.cdmsrq.info/component/rsev
 entspro/event/3897-6p-logan-obrien?Itemid=101
DTSTART;VALUE=DATE:20260423
LOCATION:Daiquiri Deck Bradenton Beach (107 Bridge St\, Bradenton Beach\, F
 L 34217)
SUMMARY:6p Logan O'Brien
URL:https://www.daiquiridecksouthsiesta.cdmsrq.info/component/rseventspro/e
 vent/3897-6p-logan-obrien?Itemid=101
END:VEVENT
END:VCALENDAR
