BEGIN:VCALENDAR
VERSION:2.0
PRODID:-//https://www.daiquiridecksouthsiesta.cdmsrq.info///NONSGML kigkonsult.se iCalcreator 2.10.15//
METHOD:PUBLISH
BEGIN:VEVENT
UID:20260422T152548UTC-3331XpSovP@https://www.daiquiridecksouthsiesta.cdmsr
 q.info/
DTSTAMP:20260422T152548Z
DESCRIPTION: https://www.daiquiridecksouthsiesta.cdmsrq.info/component/rsev
 entspro/event/3929-5p-maddie-lin?Itemid=101
DTSTART;VALUE=DATE:20260424
LOCATION:Daiquiri Deck Island of Venice (300 W Venice Ave\, Venice\, FL 342
 85)
SUMMARY:5p Maddie Lin
URL:https://www.daiquiridecksouthsiesta.cdmsrq.info/component/rseventspro/e
 vent/3929-5p-maddie-lin?Itemid=101
END:VEVENT
END:VCALENDAR
