BEGIN:VCALENDAR
VERSION:2.0
PRODID:-//https://www.daiquiridecksouthsiesta.cdmsrq.info///NONSGML kigkonsult.se iCalcreator 2.10.15//
METHOD:PUBLISH
BEGIN:VEVENT
UID:20260422T152814UTC-56888ZwsvN@https://www.daiquiridecksouthsiesta.cdmsr
 q.info/
DTSTAMP:20260422T152814Z
DESCRIPTION: https://www.daiquiridecksouthsiesta.cdmsrq.info/component/rsev
 entspro/event/3974-3p-the-cat-house?Itemid=101
DTSTART;VALUE=DATE:20260425
LOCATION:Daiquiri Deck Siesta Key Village (5250 Ocean Blvd\, Sarasota\, FL 
 34242)
SUMMARY:3p The Cat House 
URL:https://www.daiquiridecksouthsiesta.cdmsrq.info/component/rseventspro/e
 vent/3974-3p-the-cat-house?Itemid=101
END:VEVENT
END:VCALENDAR
