BEGIN:VCALENDAR
VERSION:2.0
PRODID:-//https://www.daiquiridecksouthsiesta.cdmsrq.info///NONSGML kigkonsult.se iCalcreator 2.10.15//
METHOD:PUBLISH
BEGIN:VEVENT
UID:20260422T152851UTC-0604kukv90@https://www.daiquiridecksouthsiesta.cdmsr
 q.info/
DTSTAMP:20260422T152851Z
DESCRIPTION: https://www.daiquiridecksouthsiesta.cdmsrq.info/component/rsev
 entspro/event/3977-3p-taylor-opie-duo?Itemid=101
DTSTART;VALUE=DATE:20260427
LOCATION:Daiquiri Deck Siesta Key Village (5250 Ocean Blvd\, Sarasota\, FL 
 34242)
SUMMARY:3p Taylor Opie Duo
URL:https://www.daiquiridecksouthsiesta.cdmsrq.info/component/rseventspro/e
 vent/3977-3p-taylor-opie-duo?Itemid=101
END:VEVENT
END:VCALENDAR
