BEGIN:VCALENDAR
VERSION:2.0
PRODID:-//https://www.daiquiridecksouthsiesta.cdmsrq.info///NONSGML kigkonsult.se iCalcreator 2.10.15//
METHOD:PUBLISH
BEGIN:VEVENT
UID:20260422T195958UTC-8090U6240R@https://www.daiquiridecksouthsiesta.cdmsr
 q.info/
DTSTAMP:20260422T195958Z
DESCRIPTION: https://www.daiquiridecksouthsiesta.cdmsrq.info/component/rsev
 entspro/event/3989-8p-dj-jimmy-t?Itemid=101
DTSTART;VALUE=DATE:20260505
LOCATION:Daiquiri Deck Siesta Key Village (5250 Ocean Blvd\, Sarasota\, FL 
 34242)
SUMMARY:8p DJ Jimmy T
URL:https://www.daiquiridecksouthsiesta.cdmsrq.info/component/rseventspro/e
 vent/3989-8p-dj-jimmy-t?Itemid=101
END:VEVENT
END:VCALENDAR
