BEGIN:VCALENDAR
VERSION:2.0
PRODID:-//https://www.daiquiridecksouthsiesta.cdmsrq.info///NONSGML kigkonsult.se iCalcreator 2.10.15//
METHOD:PUBLISH
BEGIN:VEVENT
UID:20260422T210921UTC-3240DGXpKu@https://www.daiquiridecksouthsiesta.cdmsr
 q.info/
DTSTAMP:20260422T210921Z
DESCRIPTION: https://www.daiquiridecksouthsiesta.cdmsrq.info/component/rsev
 entspro/event/3990-3p-kaleb-woods?Itemid=101
DTSTART;VALUE=DATE:20260506
LOCATION:Daiquiri Deck Siesta Key Village (5250 Ocean Blvd\, Sarasota\, FL 
 34242)
SUMMARY:3p Kaleb Woods 
URL:https://www.daiquiridecksouthsiesta.cdmsrq.info/component/rseventspro/e
 vent/3990-3p-kaleb-woods?Itemid=101
END:VEVENT
END:VCALENDAR
