BEGIN:VCALENDAR
VERSION:2.0
PRODID:-//https://www.daiquiridecksouthsiesta.cdmsrq.info///NONSGML kigkonsult.se iCalcreator 2.10.15//
METHOD:PUBLISH
BEGIN:VEVENT
UID:20260422T225247UTC-5956KPuw74@https://www.daiquiridecksouthsiesta.cdmsr
 q.info/
DTSTAMP:20260422T225247Z
DESCRIPTION: https://www.daiquiridecksouthsiesta.cdmsrq.info/component/rsev
 entspro/event/3993-8p-sam-the-bull-karaoke?Itemid=101
DTSTART;VALUE=DATE:20260507
LOCATION:Daiquiri Deck Siesta Key Village (5250 Ocean Blvd\, Sarasota\, FL 
 34242)
SUMMARY: 8p Sam The Bull Karaoke
URL:https://www.daiquiridecksouthsiesta.cdmsrq.info/component/rseventspro/e
 vent/3993-8p-sam-the-bull-karaoke?Itemid=101
END:VEVENT
END:VCALENDAR
