BEGIN:VCALENDAR
VERSION:2.0
PRODID:-//https://www.daiquiridecksouthsiesta.cdmsrq.info///NONSGML kigkonsult.se iCalcreator 2.10.15//
METHOD:PUBLISH
BEGIN:VEVENT
UID:20260423T043150UTC-6044azowJN@https://www.daiquiridecksouthsiesta.cdmsr
 q.info/
DTSTAMP:20260423T043150Z
DESCRIPTION: https://www.daiquiridecksouthsiesta.cdmsrq.info/component/rsev
 entspro/event/3998-3p-sarah-santiago?Itemid=101
DTSTART;VALUE=DATE:20260511
LOCATION:Daiquiri Deck Siesta Key Village (5250 Ocean Blvd\, Sarasota\, FL 
 34242)
SUMMARY:3p Sarah Santiago  
URL:https://www.daiquiridecksouthsiesta.cdmsrq.info/component/rseventspro/e
 vent/3998-3p-sarah-santiago?Itemid=101
END:VEVENT
END:VCALENDAR
