BEGIN:VCALENDAR
VERSION:2.0
PRODID:-//https://www.daiquiridecksouthsiesta.cdmsrq.info///NONSGML kigkonsult.se iCalcreator 2.10.15//
METHOD:PUBLISH
BEGIN:VEVENT
UID:20260422T182550UTC-0841BWDC0a@https://www.daiquiridecksouthsiesta.cdmsr
 q.info/
DTSTAMP:20260422T182550Z
DESCRIPTION: https://www.daiquiridecksouthsiesta.cdmsrq.info/component/rsev
 entspro/event/4014-3p-lynn-andrew-duo?Itemid=101
DTSTART;VALUE=DATE:20260522
LOCATION:Daiquiri Deck Siesta Key Village (5250 Ocean Blvd\, Sarasota\, FL 
 34242)
SUMMARY:3p Lynn & Andrew Duo 
URL:https://www.daiquiridecksouthsiesta.cdmsrq.info/component/rseventspro/e
 vent/4014-3p-lynn-andrew-duo?Itemid=101
END:VEVENT
END:VCALENDAR
