BEGIN:VCALENDAR
VERSION:2.0
PRODID:-//https://www.daiquiridecksouthsiesta.cdmsrq.info///NONSGML kigkonsult.se iCalcreator 2.10.15//
METHOD:PUBLISH
BEGIN:VEVENT
UID:20260422T182217UTC-0374GbmgIW@https://www.daiquiridecksouthsiesta.cdmsr
 q.info/
DTSTAMP:20260422T182217Z
DESCRIPTION: https://www.daiquiridecksouthsiesta.cdmsrq.info/component/rsev
 entspro/event/4020-3p-chris-otto?Itemid=101
DTSTART;VALUE=DATE:20260527
LOCATION:Daiquiri Deck Siesta Key Village (5250 Ocean Blvd\, Sarasota\, FL 
 34242)
SUMMARY:3p Chris Otto 
URL:https://www.daiquiridecksouthsiesta.cdmsrq.info/component/rseventspro/e
 vent/4020-3p-chris-otto?Itemid=101
END:VEVENT
END:VCALENDAR
