BEGIN:VCALENDAR
VERSION:2.0
PRODID:-//https://www.daiquiridecksouthsiesta.cdmsrq.info///NONSGML kigkonsult.se iCalcreator 2.10.15//
METHOD:PUBLISH
BEGIN:VEVENT
UID:20260422T225402UTC-7031W19hda@https://www.daiquiridecksouthsiesta.cdmsr
 q.info/
DTSTAMP:20260422T225402Z
DESCRIPTION: https://www.daiquiridecksouthsiesta.cdmsrq.info/component/rsev
 entspro/event/4035-4p-gulf-coastin-life?Itemid=101
DTSTART;VALUE=DATE:20260507
LOCATION:Daiquiri Deck South Siesta Key (1250 Stickney Point Rd\, Siesta Ke
 y\, FL 34242)
SUMMARY:4p Gulf Coastin.Life
URL:https://www.daiquiridecksouthsiesta.cdmsrq.info/component/rseventspro/e
 vent/4035-4p-gulf-coastin-life?Itemid=101
END:VEVENT
END:VCALENDAR
