BEGIN:VCALENDAR
VERSION:2.0
PRODID:-//https://www.daiquiridecksouthsiesta.cdmsrq.info///NONSGML kigkonsult.se iCalcreator 2.10.15//
METHOD:PUBLISH
BEGIN:VEVENT
UID:20260422T235404UTC-0927fjLwEA@https://www.daiquiridecksouthsiesta.cdmsr
 q.info/
DTSTAMP:20260422T235404Z
DESCRIPTION: https://www.daiquiridecksouthsiesta.cdmsrq.info/component/rsev
 entspro/event/4036-5p-sean-adam-walsh?Itemid=101
DTSTART;VALUE=DATE:20260508
LOCATION:Daiquiri Deck South Siesta Key (1250 Stickney Point Rd\, Siesta Ke
 y\, FL 34242)
SUMMARY:5p Sean Adam Walsh
URL:https://www.daiquiridecksouthsiesta.cdmsrq.info/component/rseventspro/e
 vent/4036-5p-sean-adam-walsh?Itemid=101
END:VEVENT
END:VCALENDAR
