BEGIN:VCALENDAR
VERSION:2.0
PRODID:-//https://www.daiquiridecksouthsiesta.cdmsrq.info///NONSGML kigkonsult.se iCalcreator 2.10.15//
METHOD:PUBLISH
BEGIN:VEVENT
UID:20260423T011512UTC-329863gnpK@https://www.daiquiridecksouthsiesta.cdmsr
 q.info/
DTSTAMP:20260423T011512Z
DESCRIPTION: https://www.daiquiridecksouthsiesta.cdmsrq.info/component/rsev
 entspro/event/4037-12p-brian-mansano?Itemid=101
DTSTART;VALUE=DATE:20260509
LOCATION:Daiquiri Deck South Siesta Key (1250 Stickney Point Rd\, Siesta Ke
 y\, FL 34242)
SUMMARY:12p Brian Mansano  
URL:https://www.daiquiridecksouthsiesta.cdmsrq.info/component/rseventspro/e
 vent/4037-12p-brian-mansano?Itemid=101
END:VEVENT
END:VCALENDAR
