BEGIN:VCALENDAR
VERSION:2.0
PRODID:-//https://www.daiquiridecksouthsiesta.cdmsrq.info///NONSGML kigkonsult.se iCalcreator 2.10.15//
METHOD:PUBLISH
BEGIN:VEVENT
UID:20260423T054910UTC-27451dGv9O@https://www.daiquiridecksouthsiesta.cdmsr
 q.info/
DTSTAMP:20260423T054910Z
DESCRIPTION: https://www.daiquiridecksouthsiesta.cdmsrq.info/component/rsev
 entspro/event/4041-5p-nick-lavalley?Itemid=101
DTSTART;VALUE=DATE:20260512
LOCATION:Daiquiri Deck South Siesta Key (1250 Stickney Point Rd\, Siesta Ke
 y\, FL 34242)
SUMMARY:5p Nick Lavalley
URL:https://www.daiquiridecksouthsiesta.cdmsrq.info/component/rseventspro/e
 vent/4041-5p-nick-lavalley?Itemid=101
END:VEVENT
END:VCALENDAR
