BEGIN:VCALENDAR
VERSION:2.0
PRODID:-//https://www.daiquiridecksouthsiesta.cdmsrq.info///NONSGML kigkonsult.se iCalcreator 2.10.15//
METHOD:PUBLISH
BEGIN:VEVENT
UID:20260422T181110UTC-1607B3R5iD@https://www.daiquiridecksouthsiesta.cdmsr
 q.info/
DTSTAMP:20260422T181110Z
DESCRIPTION: https://www.daiquiridecksouthsiesta.cdmsrq.info/component/rsev
 entspro/event/4052-12p-brian-mansano?Itemid=101
DTSTART;VALUE=DATE:20260523
LOCATION:Daiquiri Deck South Siesta Key (1250 Stickney Point Rd\, Siesta Ke
 y\, FL 34242)
SUMMARY:12p Brian Mansano 
URL:https://www.daiquiridecksouthsiesta.cdmsrq.info/component/rseventspro/e
 vent/4052-12p-brian-mansano?Itemid=101
END:VEVENT
END:VCALENDAR
