BEGIN:VCALENDAR
VERSION:2.0
PRODID:-//https://www.daiquiridecksouthsiesta.cdmsrq.info///NONSGML kigkonsult.se iCalcreator 2.10.15//
METHOD:PUBLISH
BEGIN:VEVENT
UID:20260422T181754UTC-3905ltmmLu@https://www.daiquiridecksouthsiesta.cdmsr
 q.info/
DTSTAMP:20260422T181754Z
DESCRIPTION: https://www.daiquiridecksouthsiesta.cdmsrq.info/component/rsev
 entspro/event/4059-5p-j-santi-trio?Itemid=101
DTSTART;VALUE=DATE:20260529
LOCATION:Daiquiri Deck South Siesta Key (1250 Stickney Point Rd\, Siesta Ke
 y\, FL 34242)
SUMMARY:5p J Santi Trio
URL:https://www.daiquiridecksouthsiesta.cdmsrq.info/component/rseventspro/e
 vent/4059-5p-j-santi-trio?Itemid=101
END:VEVENT
END:VCALENDAR
