BEGIN:VCALENDAR
VERSION:2.0
PRODID:-//https://www.daiquiridecksouthsiesta.cdmsrq.info///NONSGML kigkonsult.se iCalcreator 2.10.15//
METHOD:PUBLISH
BEGIN:VEVENT
UID:20260422T220929UTC-8077VNVRLF@https://www.daiquiridecksouthsiesta.cdmsr
 q.info/
DTSTAMP:20260422T220929Z
DESCRIPTION: https://www.daiquiridecksouthsiesta.cdmsrq.info/component/rsev
 entspro/event/4070-12p-bain-beakley?Itemid=101
DTSTART;VALUE=DATE:20260507
LOCATION:Daiquiri Deck St. Armands Circle (325 John Ringling Blvd\, Sarasot
 a\, FL 34236)
SUMMARY:12p Bain Beakley
URL:https://www.daiquiridecksouthsiesta.cdmsrq.info/component/rseventspro/e
 vent/4070-12p-bain-beakley?Itemid=101
END:VEVENT
END:VCALENDAR
