BEGIN:VCALENDAR
VERSION:2.0
PRODID:-//https://www.daiquiridecksouthsiesta.cdmsrq.info///NONSGML kigkonsult.se iCalcreator 2.10.15//
METHOD:PUBLISH
BEGIN:VEVENT
UID:20260422T234740UTC-45065Z5EtW@https://www.daiquiridecksouthsiesta.cdmsr
 q.info/
DTSTAMP:20260422T234740Z
DESCRIPTION: https://www.daiquiridecksouthsiesta.cdmsrq.info/component/rsev
 entspro/event/4071-11a-gary-alexander?Itemid=101
DTSTART;VALUE=DATE:20260508
LOCATION:Daiquiri Deck St. Armands Circle (325 John Ringling Blvd\, Sarasot
 a\, FL 34236)
SUMMARY:11a Gary Alexander  
URL:https://www.daiquiridecksouthsiesta.cdmsrq.info/component/rseventspro/e
 vent/4071-11a-gary-alexander?Itemid=101
END:VEVENT
END:VCALENDAR
