BEGIN:VCALENDAR
VERSION:2.0
PRODID:-//https://www.daiquiridecksouthsiesta.cdmsrq.info///NONSGML kigkonsult.se iCalcreator 2.10.15//
METHOD:PUBLISH
BEGIN:VEVENT
UID:20260423T005607UTC-1672uKk6Bs@https://www.daiquiridecksouthsiesta.cdmsr
 q.info/
DTSTAMP:20260423T005607Z
DESCRIPTION: https://www.daiquiridecksouthsiesta.cdmsrq.info/component/rsev
 entspro/event/4074-4p-gulf-coastin-life?Itemid=101
DTSTART;VALUE=DATE:20260509
LOCATION:Daiquiri Deck St. Armands Circle (325 John Ringling Blvd\, Sarasot
 a\, FL 34236)
SUMMARY: 4p Gulf Coastin.Life
URL:https://www.daiquiridecksouthsiesta.cdmsrq.info/component/rseventspro/e
 vent/4074-4p-gulf-coastin-life?Itemid=101
END:VEVENT
END:VCALENDAR
