BEGIN:VCALENDAR
VERSION:2.0
PRODID:-//https://www.daiquiridecksouthsiesta.cdmsrq.info///NONSGML kigkonsult.se iCalcreator 2.10.15//
METHOD:PUBLISH
BEGIN:VEVENT
UID:20260423T022742UTC-39328eravm@https://www.daiquiridecksouthsiesta.cdmsr
 q.info/
DTSTAMP:20260423T022742Z
DESCRIPTION: https://www.daiquiridecksouthsiesta.cdmsrq.info/component/rsev
 entspro/event/4075-3p-florida-keys-piano-show?Itemid=101
DTSTART;VALUE=DATE:20260510
LOCATION:Daiquiri Deck St. Armands Circle (325 John Ringling Blvd\, Sarasot
 a\, FL 34236)
SUMMARY:3p Florida Keys Piano Show
URL:https://www.daiquiridecksouthsiesta.cdmsrq.info/component/rseventspro/e
 vent/4075-3p-florida-keys-piano-show?Itemid=101
END:VEVENT
END:VCALENDAR
