BEGIN:VCALENDAR
VERSION:2.0
PRODID:-//https://www.daiquiridecksouthsiesta.cdmsrq.info///NONSGML kigkonsult.se iCalcreator 2.10.15//
METHOD:PUBLISH
BEGIN:VEVENT
UID:20260423T065650UTC-1295NTRDRP@https://www.daiquiridecksouthsiesta.cdmsr
 q.info/
DTSTAMP:20260423T065650Z
DESCRIPTION: https://www.daiquiridecksouthsiesta.cdmsrq.info/component/rsev
 entspro/event/4078-5p-matt-gerhardt?Itemid=101
DTSTART;VALUE=DATE:20260513
LOCATION:Daiquiri Deck St. Armands Circle (325 John Ringling Blvd\, Sarasot
 a\, FL 34236)
SUMMARY:5p Matt Gerhardt
URL:https://www.daiquiridecksouthsiesta.cdmsrq.info/component/rseventspro/e
 vent/4078-5p-matt-gerhardt?Itemid=101
END:VEVENT
END:VCALENDAR
