BEGIN:VCALENDAR
VERSION:2.0
PRODID:-//https://www.daiquiridecksouthsiesta.cdmsrq.info///NONSGML kigkonsult.se iCalcreator 2.10.15//
METHOD:PUBLISH
BEGIN:VEVENT
UID:20260423T095530UTC-1753h9tLNj@https://www.daiquiridecksouthsiesta.cdmsr
 q.info/
DTSTAMP:20260423T095530Z
DESCRIPTION: https://www.daiquiridecksouthsiesta.cdmsrq.info/component/rsev
 entspro/event/4081-6p-flash-back-friday-karaoke?Itemid=101
DTSTART;VALUE=DATE:20260515
LOCATION:Daiquiri Deck St. Armands Circle (325 John Ringling Blvd\, Sarasot
 a\, FL 34236)
SUMMARY: 6p Flash Back Friday Karaoke
URL:https://www.daiquiridecksouthsiesta.cdmsrq.info/component/rseventspro/e
 vent/4081-6p-flash-back-friday-karaoke?Itemid=101
END:VEVENT
END:VCALENDAR
