BEGIN:VCALENDAR
VERSION:2.0
PRODID:-//https://www.daiquiridecksouthsiesta.cdmsrq.info///NONSGML kigkonsult.se iCalcreator 2.10.15//
METHOD:PUBLISH
BEGIN:VEVENT
UID:20260422T223143UTC-7078jvfWcw@https://www.daiquiridecksouthsiesta.cdmsr
 q.info/
DTSTAMP:20260422T223143Z
DESCRIPTION: https://www.daiquiridecksouthsiesta.cdmsrq.info/component/rsev
 entspro/event/4109-6p-logan-obrien?Itemid=101
DTSTART;VALUE=DATE:20260507
LOCATION:Daiquiri Deck Bradenton Beach (107 Bridge St\, Bradenton Beach\, F
 L 34217)
SUMMARY:6p Logan O'Brien
URL:https://www.daiquiridecksouthsiesta.cdmsrq.info/component/rseventspro/e
 vent/4109-6p-logan-obrien?Itemid=101
END:VEVENT
END:VCALENDAR
