BEGIN:VCALENDAR
VERSION:2.0
PRODID:-//https://www.daiquiridecksouthsiesta.cdmsrq.info///NONSGML kigkonsult.se iCalcreator 2.10.15//
METHOD:PUBLISH
BEGIN:VEVENT
UID:20260422T235004UTC-3560WvE480@https://www.daiquiridecksouthsiesta.cdmsr
 q.info/
DTSTAMP:20260422T235004Z
DESCRIPTION: https://www.daiquiridecksouthsiesta.cdmsrq.info/component/rsev
 entspro/event/4110-5pm-chad-tallman?Itemid=101
DTSTART;VALUE=DATE:20260508
LOCATION:Daiquiri Deck Bradenton Beach (107 Bridge St\, Bradenton Beach\, F
 L 34217)
SUMMARY:5pm Chad Tallman
URL:https://www.daiquiridecksouthsiesta.cdmsrq.info/component/rseventspro/e
 vent/4110-5pm-chad-tallman?Itemid=101
END:VEVENT
END:VCALENDAR
