BEGIN:VCALENDAR
VERSION:2.0
PRODID:-//https://www.daiquiridecksouthsiesta.cdmsrq.info///NONSGML kigkonsult.se iCalcreator 2.10.15//
METHOD:PUBLISH
BEGIN:VEVENT
UID:20260423T043631UTC-2811GCtwxg@https://www.daiquiridecksouthsiesta.cdmsr
 q.info/
DTSTAMP:20260423T043631Z
DESCRIPTION: https://www.daiquiridecksouthsiesta.cdmsrq.info/component/rsev
 entspro/event/4113-6p-katie-lowe?Itemid=101
DTSTART;VALUE=DATE:20260511
LOCATION:Daiquiri Deck Bradenton Beach (107 Bridge St\, Bradenton Beach\, F
 L 34217)
SUMMARY:6p Katie Lowe
URL:https://www.daiquiridecksouthsiesta.cdmsrq.info/component/rseventspro/e
 vent/4113-6p-katie-lowe?Itemid=101
END:VEVENT
END:VCALENDAR
