BEGIN:VCALENDAR
VERSION:2.0
PRODID:-//https://www.daiquiridecksouthsiesta.cdmsrq.info///NONSGML kigkonsult.se iCalcreator 2.10.15//
METHOD:PUBLISH
BEGIN:VEVENT
UID:20260422T211724UTC-4514Ukv8e3@https://www.daiquiridecksouthsiesta.cdmsr
 q.info/
DTSTAMP:20260422T211724Z
DESCRIPTION: https://www.daiquiridecksouthsiesta.cdmsrq.info/component/rsev
 entspro/event/4138-4p-gulf-coastin-life?Itemid=101
DTSTART;VALUE=DATE:20260506
LOCATION:Daiquiri Deck Island of Venice (300 W Venice Ave\, Venice\, FL 342
 85)
SUMMARY:4p Gulf Coastin.Life
URL:https://www.daiquiridecksouthsiesta.cdmsrq.info/component/rseventspro/e
 vent/4138-4p-gulf-coastin-life?Itemid=101
END:VEVENT
END:VCALENDAR
