BEGIN:VCALENDAR
VERSION:2.0
PRODID:-//https://www.daiquiridecksouthsiesta.cdmsrq.info///NONSGML kigkonsult.se iCalcreator 2.10.15//
METHOD:PUBLISH
BEGIN:VEVENT
UID:20260422T235241UTC-0752UcoRRF@https://www.daiquiridecksouthsiesta.cdmsr
 q.info/
DTSTAMP:20260422T235241Z
DESCRIPTION: https://www.daiquiridecksouthsiesta.cdmsrq.info/component/rsev
 entspro/event/4140-6p-joey-d?Itemid=101
DTSTART;VALUE=DATE:20260508
LOCATION:Daiquiri Deck Island of Venice (300 W Venice Ave\, Venice\, FL 342
 85)
SUMMARY:6p Joey D
URL:https://www.daiquiridecksouthsiesta.cdmsrq.info/component/rseventspro/e
 vent/4140-6p-joey-d?Itemid=101
END:VEVENT
END:VCALENDAR
