BEGIN:VCALENDAR
VERSION:2.0
PRODID:-//https://www.daiquiridecksouthsiesta.cdmsrq.info///NONSGML kigkonsult.se iCalcreator 2.10.15//
METHOD:PUBLISH
BEGIN:VEVENT
UID:20260423T025023UTC-3911nkP9FM@https://www.daiquiridecksouthsiesta.cdmsr
 q.info/
DTSTAMP:20260423T025023Z
DESCRIPTION: https://www.daiquiridecksouthsiesta.cdmsrq.info/component/rsev
 entspro/event/4142-12p-groove-circle?Itemid=101
DTSTART;VALUE=DATE:20260510
LOCATION:Daiquiri Deck Island of Venice (300 W Venice Ave\, Venice\, FL 342
 85)
SUMMARY:12p Groove Circle
URL:https://www.daiquiridecksouthsiesta.cdmsrq.info/component/rseventspro/e
 vent/4142-12p-groove-circle?Itemid=101
END:VEVENT
END:VCALENDAR
