BEGIN:VCALENDAR
VERSION:2.0
PRODID:-//https://www.daiquiridecksouthsiesta.cdmsrq.info///NONSGML kigkonsult.se iCalcreator 2.10.15//
METHOD:PUBLISH
BEGIN:VEVENT
UID:20260422T181148UTC-04300ESbhO@https://www.daiquiridecksouthsiesta.cdmsr
 q.info/
DTSTAMP:20260422T181148Z
DESCRIPTION: https://www.daiquiridecksouthsiesta.cdmsrq.info/component/rsev
 entspro/event/4151-12p-aaron-kelly?Itemid=101
DTSTART;VALUE=DATE:20260519
LOCATION:Daiquiri Deck Island of Venice (300 W Venice Ave\, Venice\, FL 342
 85)
SUMMARY:12p Aaron Kelly
URL:https://www.daiquiridecksouthsiesta.cdmsrq.info/component/rseventspro/e
 vent/4151-12p-aaron-kelly?Itemid=101
END:VEVENT
END:VCALENDAR
