BEGIN:VCALENDAR
VERSION:2.0
PRODID:-//https://www.daiquiridecksouthsiesta.cdmsrq.info///NONSGML kigkonsult.se iCalcreator 2.10.15//
METHOD:PUBLISH
BEGIN:VEVENT
UID:20260422T171621UTC-9008309Ioz@https://www.daiquiridecksouthsiesta.cdmsr
 q.info/
DTSTAMP:20260422T171621Z
DESCRIPTION: https://www.daiquiridecksouthsiesta.cdmsrq.info/component/rsev
 entspro/event/4165-12p-jake-ariel?Itemid=101
DTSTART;VALUE=DATE:20260502
LOCATION:Daiquiri Deck Island of Venice (300 W Venice Ave\, Venice\, FL 342
 85)
SUMMARY:12p Jake & Ariel 
URL:https://www.daiquiridecksouthsiesta.cdmsrq.info/component/rseventspro/e
 vent/4165-12p-jake-ariel?Itemid=101
END:VEVENT
END:VCALENDAR
