BEGIN:VCALENDAR
VERSION:2.0
PRODID:-//https://www.daiquiridecksouthsiesta.cdmsrq.info///NONSGML kigkonsult.se iCalcreator 2.10.15//
METHOD:PUBLISH
BEGIN:VEVENT
UID:20260423T014028UTC-6326gS3v1H@https://www.daiquiridecksouthsiesta.cdmsr
 q.info/
DTSTAMP:20260423T014028Z
DESCRIPTION: https://www.daiquiridecksouthsiesta.cdmsrq.info/component/rsev
 entspro/event/4167-12p-jake-ariel?Itemid=101
DTSTART;VALUE=DATE:20260509
LOCATION:Daiquiri Deck Island of Venice (300 W Venice Ave\, Venice\, FL 342
 85)
SUMMARY:12p Jake & Ariel
URL:https://www.daiquiridecksouthsiesta.cdmsrq.info/component/rseventspro/e
 vent/4167-12p-jake-ariel?Itemid=101
END:VEVENT
END:VCALENDAR
