BEGIN:VCALENDAR
VERSION:2.0
PRODID:-//https://www.daiquiridecksouthsiesta.cdmsrq.info///NONSGML kigkonsult.se iCalcreator 2.10.15//
METHOD:PUBLISH
BEGIN:VEVENT
UID:20260423T013303UTC-9301xcFjuv@https://www.daiquiridecksouthsiesta.cdmsr
 q.info/
DTSTAMP:20260423T013303Z
DESCRIPTION: https://www.daiquiridecksouthsiesta.cdmsrq.info/component/rsev
 entspro/event/4168-6p-scott-lawrence?Itemid=101
DTSTART;VALUE=DATE:20260509
LOCATION:Daiquiri Deck Island of Venice (300 W Venice Ave\, Venice\, FL 342
 85)
SUMMARY:6p Scott Lawrence
URL:https://www.daiquiridecksouthsiesta.cdmsrq.info/component/rseventspro/e
 vent/4168-6p-scott-lawrence?Itemid=101
END:VEVENT
END:VCALENDAR
