BEGIN:VCALENDAR
VERSION:2.0
PRODID:-//https://www.daiquiridecksouthsiesta.cdmsrq.info///NONSGML kigkonsult.se iCalcreator 2.10.15//
METHOD:PUBLISH
BEGIN:VEVENT
UID:20260423T015845UTC-7346bo9lik@https://www.daiquiridecksouthsiesta.cdmsr
 q.info/
DTSTAMP:20260423T015845Z
DESCRIPTION: https://www.daiquiridecksouthsiesta.cdmsrq.info/component/rsev
 entspro/event/4176-5p-matt-federici?Itemid=101
DTSTART;VALUE=DATE:20260509
LOCATION:Daiquiri Deck Bradenton Beach (107 Bridge St\, Bradenton Beach\, F
 L 34217)
SUMMARY:5p Matt Federici
URL:https://www.daiquiridecksouthsiesta.cdmsrq.info/component/rseventspro/e
 vent/4176-5p-matt-federici?Itemid=101
END:VEVENT
END:VCALENDAR
